BEGIN:VCALENDAR
VERSION:2.0
PRODID:-//The Village Trip - ECPv6.14.2//NONSGML v1.0//EN
CALSCALE:GREGORIAN
METHOD:PUBLISH
X-WR-CALNAME:The Village Trip
X-ORIGINAL-URL:https://www.thevillagetrip.com
X-WR-CALDESC:Events for The Village Trip
REFRESH-INTERVAL;VALUE=DURATION:PT1H
X-Robots-Tag:noindex
X-PUBLISHED-TTL:PT1H
BEGIN:VTIMEZONE
TZID:America/New_York
BEGIN:DAYLIGHT
TZOFFSETFROM:-0500
TZOFFSETTO:-0400
TZNAME:EDT
DTSTART:20210314T070000
END:DAYLIGHT
BEGIN:STANDARD
TZOFFSETFROM:-0400
TZOFFSETTO:-0500
TZNAME:EST
DTSTART:20211107T060000
END:STANDARD
END:VTIMEZONE
BEGIN:VEVENT
DTSTART;TZID=America/New_York:20210923T180000
DTEND;TZID=America/New_York:20210923T200000
DTSTAMP:20260421T050224
CREATED:20210818T140752Z
LAST-MODIFIED:20210821T100914Z
UID:10000061-1632420000-1632427200@www.thevillagetrip.com
SUMMARY:Lorraine Hansberry’s Village Voice
DESCRIPTION:Playwright\, activist\, and villager Lorraine Hansberry is best known for her award-winning play A Raisin in the Sun\, which premiered on Broadway in 1959. She had an unflinching commitment to social justice which brought her under FBI surveillance in her early twenties. Hansberry was close friends with James Baldwin as well as Nina Simone\, whose song “Young\, Gifted\, and Black” was dedicated to the playwright. Scholarship of Hansberry’s life has largely been relegated to her one mainstream work\, but biographer and scholar Dr. Imani Perry chose to explore Hansberry’s life with careful attention to her queerness\, feminism\, and Black radical politics in her acclaimed 2018 biography Looking for Lorraine: The Radiant and Radical Life of Lorraine Hansberry. Dr Perry will join us to explore Hansberry’s work and life as a true Village voice. \nMore about Imani Perry.
URL:https://www.thevillagetrip.com/event/lorraine-hansberrys-village-voice/
LOCATION:Virtual Webinar on Zoom
CATEGORIES:2021 Talk
ATTACH;FMTTYPE=image/jpeg:https://www.thevillagetrip.com/festival/wp-content/uploads/2021/08/lorraine-hansberry-littrust.jpg
END:VEVENT
END:VCALENDAR