BEGIN:VCALENDAR
VERSION:2.0
PRODID:-//The Village Trip - ECPv6.14.2//NONSGML v1.0//EN
CALSCALE:GREGORIAN
METHOD:PUBLISH
X-WR-CALNAME:The Village Trip
X-ORIGINAL-URL:https://www.thevillagetrip.com
X-WR-CALDESC:Events for The Village Trip
REFRESH-INTERVAL;VALUE=DURATION:PT1H
X-Robots-Tag:noindex
X-PUBLISHED-TTL:PT1H
BEGIN:VTIMEZONE
TZID:America/New_York
BEGIN:DAYLIGHT
TZOFFSETFROM:-0500
TZOFFSETTO:-0400
TZNAME:EDT
DTSTART:20210314T070000
END:DAYLIGHT
BEGIN:STANDARD
TZOFFSETFROM:-0400
TZOFFSETTO:-0500
TZNAME:EST
DTSTART:20211107T060000
END:STANDARD
BEGIN:DAYLIGHT
TZOFFSETFROM:-0500
TZOFFSETTO:-0400
TZNAME:EDT
DTSTART:20220313T070000
END:DAYLIGHT
BEGIN:STANDARD
TZOFFSETFROM:-0400
TZOFFSETTO:-0500
TZNAME:EST
DTSTART:20221106T060000
END:STANDARD
BEGIN:DAYLIGHT
TZOFFSETFROM:-0500
TZOFFSETTO:-0400
TZNAME:EDT
DTSTART:20230312T070000
END:DAYLIGHT
BEGIN:STANDARD
TZOFFSETFROM:-0400
TZOFFSETTO:-0500
TZNAME:EST
DTSTART:20231105T060000
END:STANDARD
BEGIN:DAYLIGHT
TZOFFSETFROM:-0500
TZOFFSETTO:-0400
TZNAME:EDT
DTSTART:20240310T070000
END:DAYLIGHT
BEGIN:STANDARD
TZOFFSETFROM:-0400
TZOFFSETTO:-0500
TZNAME:EST
DTSTART:20241103T060000
END:STANDARD
BEGIN:DAYLIGHT
TZOFFSETFROM:-0500
TZOFFSETTO:-0400
TZNAME:EDT
DTSTART:20250309T070000
END:DAYLIGHT
BEGIN:STANDARD
TZOFFSETFROM:-0400
TZOFFSETTO:-0500
TZNAME:EST
DTSTART:20251102T060000
END:STANDARD
END:VTIMEZONE
BEGIN:VEVENT
DTSTART;TZID=America/New_York:20250927T160000
DTEND;TZID=America/New_York:20250927T190000
DTSTAMP:20260420T101750
CREATED:20250707T132029Z
LAST-MODIFIED:20250929T093247Z
UID:10000653-1758988800-1758999600@www.thevillagetrip.com
SUMMARY:Bringing It All Back Home to Washington Square
DESCRIPTION:The Village Trip’s signature event\, this free concert in Washington Square Park anchors the festival’s final weekend. This year\, it will bring the soulful sounds of Kennedy Administration\, whose sonic tapestry weaves together jazz\, R&B\, hip-hop\, and pop. Also on the bill: Dali Rose.\nKennedy Adminstration\nThe band was born in New York – just a couple of hundred yards away at the Groove Bar on MacDougal Street\, where Ms. Kennedy was offered a residency. She needed a keyboard player and Czech-born Ondre J happened to be available. Alchemy! The band’s residency lasted six years. Since then\, the group has toured the world\, opened for Elton John\, and created amazing music. Their performance at The Village Trip marks the release of their third album\, Humanity. \nDali Rose\nAlso on the bill: Dali Rose\, the 22-year-old Atlanta native who began creating and producing his own music during lockdown in his NYU dorm. He has been surrounded by music his entire life – his father\, Van Hunt\, is a Grammy-award-winning vocalist and musician. \n\n\nKennedy Administration\nDali Rose\n\nThe concert is FREE\, though the musicians and crew are paid. So if you are able to support The Village Trip\, your donation will be greatly appreciated. Thank you!\nMAKE A DONATION TO THE VILLAGE TRIP\n \n\n\n\n\n\n \n\n  \n\nThe Village Trip would like to thank the following organizations for their support.
URL:https://www.thevillagetrip.com/event/bringing-it-all-back-home-to-washington-square-2025/
LOCATION:Garibaldi Plaza\, Washington Square Park\, New York\, NY\, NY 10003\, United States
CATEGORIES:2025 Music
ATTACH;FMTTYPE=image/jpeg:https://www.thevillagetrip.com/festival/wp-content/uploads/2025/07/Kennedy-Administration.jpg
END:VEVENT
BEGIN:VEVENT
DTSTART;TZID=America/New_York:20240928T160000
DTEND;TZID=America/New_York:20240928T190000
DTSTAMP:20260420T101750
CREATED:20240708T105025Z
LAST-MODIFIED:20240807T082350Z
UID:10000188-1727539200-1727550000@www.thevillagetrip.com
SUMMARY:Bringing It All Back Home to Washington Square
DESCRIPTION:The Village Trip’s signature free concert in Washington Square Park this year celebrates girl power and sister acts! We are thrilled to welcome Tish and Snooky\, glam punk rock legends of the Lower East Side; Janie Barnett\, acclaimed as both session singer and Americana soloist; and BETTY\, the indie rock trio who are Gloria Steinem’s favorite band. A program that’s as diverse as the Village itself.\nGeographically and spiritually\, Washington Square has always been the center of the Village. Bohemia’s beating heart\, it’s a place to gather\, whether to protest or just hang out\, often with a guitar – and to dance! The signature event of each year’s Village Trip festival\, Bringing It All Back Home to Washington Square has down the years featured Suzanne Vega\, Steve Earle\, Bobby Sanabria and His Multiverse Big Band with special guest Janis Siegel\, and the Klezmatics. This year’s Park extravaganza brings together a stellar selection of New York City talent: Tish and Snooky\, Janie Barnett\, and BETTY\, a trio of women known worldwide for their soaring harmonies\, upbeat live shows\, and non-stop activism. Indeed\, as Gloria Steinem puts it\, the band “spreads the most lasting kind of revolution.” \nDeclares BETTY: “Since our first gig together in 1986\, BETTY has been an indie activist artist band. We create and perform passionate music that exemplifies the 1960s slogan popularized in Greenwich Village and beyond—‘the personal is political.’ Washington Square Park continues to be the heart of NYC’s progressive movements and an epicenter for change. There is an electricity that runs from this power point that can and has ignited the world. We’re thrilled to plug in\, tune up and rock out there with the legendary gathering\, The Village Trip!” \nStorms forced the cancellation of last year’s concert so don’t miss this year’s must-see party in the Park on the concluding weekend of the sixth Village Trip. Come on down and join the fun. Tell your friends. Bring the family. This is an event you don’t want to miss. New York’s coolest event in the city’s coolest space! Be there! \nAnd let’s bring the revolution home! \n\nBETTY\nJanie Barnett\nTish and Snooky\n\nThe concert is FREE\, though the musicians and crew are paid. So if you are able to support The Village Trip\, your donation will be greatly appreciated. Thank you!\nMAKE A DONATION TO THE VILLAGE TRIP\n 
URL:https://www.thevillagetrip.com/event/bringing-it-all-back-home-to-washington-square/
LOCATION:Garibaldi Plaza\, Washington Square Park\, New York\, NY\, NY 10003\, United States
CATEGORIES:2024 Highlights,2024 Music
ATTACH;FMTTYPE=image/jpeg:https://www.thevillagetrip.com/festival/wp-content/uploads/2023/07/BETTY-by-Gene-Reed.jpg
END:VEVENT
BEGIN:VEVENT
DTSTART;TZID=America/New_York:20220924T160000
DTEND;TZID=America/New_York:20220924T190000
DTSTAMP:20260420T101750
CREATED:20220728T144311Z
LAST-MODIFIED:20220811T121649Z
UID:10000070-1664035200-1664046000@www.thevillagetrip.com
SUMMARY:Bringing It All Back Home to Washington Square  with The Klezmatics and Joshua Nelson Free outdoor concert
DESCRIPTION:Klezmer meets gospel at the signature event of The Village Trip!  with special guest Joshua Nelson\, the “Prince of Kosher Gospel”. The Reverend Billy and the Choir of the Church of Stop Shopping are also on the bill for what promises to be an unforgettable afternoon of music. \n“The Klezmatics are thrilled to be a part of this year’s Village Trip Festival\,” said Lorin Sklamberg\, a founding member of The Klezmatics. “It is especially meaningful since The Village Trip is expanding to include the East Village\, whose kinetic energy was so vital to the band’s genesis in the 1980s. We are also beyond excited for the opportunity to present Brother Moses Smote the Water\, our ecstatic collaboration with the mighty Prince of Kosher Gospel\,’ Joshua Nelson\, as part of our Washington Square Park debut.” \n\nThe Klezmatics\nJoshua Nelson\nReverend Billy\n\nNo tickets needed – just grab your dancing shoes and shimmy on down to Garibaldi Plaza in Washington Square Park for an afternoon of great music and good fun!\nThis event is free to attend\, but we suggest a $10 donation to The Village Trip.\n \n\n\n\n\n\n\n			\n		\n			\n			MAKE A DONATION TO THE VILLAGE TRIP
URL:https://www.thevillagetrip.com/event/bringing-it-all-back-home-to-washington-square-free-outdoor-concert/
LOCATION:Garibaldi Plaza\, Washington Square Park\, New York\, NY\, NY 10003\, United States
CATEGORIES:2022 Highlights,2022 Music
ATTACH;FMTTYPE=image/jpeg:https://www.thevillagetrip.com/festival/wp-content/uploads/2022/07/The-Klezmatics-photo-Chuck-Fishman-eventcalendar-.jpg
END:VEVENT
BEGIN:VEVENT
DTSTART;TZID=America/New_York:20210925T160000
DTEND;TZID=America/New_York:20210925T190000
DTSTAMP:20260420T101750
CREATED:20210719T084638Z
LAST-MODIFIED:20210825T083457Z
UID:10000023-1632585600-1632596400@www.thevillagetrip.com
SUMMARY:Bringing It All Back Home to Washington Square – Free Concert in the Park with Bobby Sanabria and His Multiverse Big Band
DESCRIPTION:Janis Siegal \nA musical activist whose debut recording was nominated for a Grammy\, the first of many\, Bobby Sanabria is a polymath whose musical lineage reaches from the South Bronx\, where he grew up and still lives\, to the Village\, where Latin jazz has a long and rich history\, notably with Art D’Lugoff’s Salsa Meets Jazz concerts\, for years a fixture at the Village Gate. Bobby Sanabria played with all the greats\, among them Mario Bauzá\, Dizzy Gillespie and Mongo Santamaría\, before forming his own band\, its name inspired by Octavía Paz’s novel Multiverse. \nFeaturing special guests\, including Janis Siegel of The Manhattan Transfer. \nPerformers\n\nBobby Sanabria\nJanis Siegal\n\nNo tickets needed – just grab your dancing shoes and shimmy on down to Garibaldi Plaza in Washington Square Park for an afternoon of great music and good fun!\nThe concert is free\, though the musicians and crew are paid. So if you are able to support The Village Trip\, your donation will be greatly appreciated. Thank you!
URL:https://www.thevillagetrip.com/event/bringing-it-all-back-home-to-washington-square-free-concert/
LOCATION:Garibaldi Plaza\, Washington Square Park\, New York\, NY\, NY 10003\, United States
CATEGORIES:2021 Highlights,2021 Music
ATTACH;FMTTYPE=image/jpeg:https://www.thevillagetrip.com/festival/wp-content/uploads/2021/07/Bobby-Sanabria.jpg
END:VEVENT
END:VCALENDAR