BEGIN:VCALENDAR
VERSION:2.0
PRODID:-//The Village Trip - ECPv6.14.2//NONSGML v1.0//EN
CALSCALE:GREGORIAN
METHOD:PUBLISH
X-WR-CALNAME:The Village Trip
X-ORIGINAL-URL:https://www.thevillagetrip.com
X-WR-CALDESC:Events for The Village Trip
REFRESH-INTERVAL;VALUE=DURATION:PT1H
X-Robots-Tag:noindex
X-PUBLISHED-TTL:PT1H
BEGIN:VTIMEZONE
TZID:America/New_York
BEGIN:DAYLIGHT
TZOFFSETFROM:-0500
TZOFFSETTO:-0400
TZNAME:EDT
DTSTART:20210314T070000
END:DAYLIGHT
BEGIN:STANDARD
TZOFFSETFROM:-0400
TZOFFSETTO:-0500
TZNAME:EST
DTSTART:20211107T060000
END:STANDARD
END:VTIMEZONE
BEGIN:VEVENT
DTSTART;TZID=America/New_York:20210922T180000
DTEND;TZID=America/New_York:20210922T193000
DTSTAMP:20260421T080118
CREATED:20210809T104036Z
LAST-MODIFIED:20210821T100845Z
UID:10000048-1632333600-1632339000@www.thevillagetrip.com
SUMMARY:"It’s Difficult to Write This Without Sounding Alarmist…” Larry Kramer and the Start of AIDS Activism
DESCRIPTION:The quote comes from the start of Larry Kramer’s first article on AIDS\, “A Personal Appeal” published in August 1981 in the New York Native\, a gay newspaper of the time. This year marks the 40th anniversary of those first reports of the disease that became known as AIDS. NBC’s Bill Goldstein\, who is writing a biography of the activist and playwright\, will discuss Kramer’s early calls to community activism that summer and fall\, drawing largely on Kramer's unpublished letters and journals. Bill Goldstein will be in conversation with Dave Harper\, Executive Director of the New York City AIDS Memorial. \nMore about Bill Goldstein. \nMeet at New York City AIDS Memorial\, corner of 12th Street and Greenwich Avenue\, 6pm. \nThis event is free to attend. Booking a ticket is essential.\nLarry Kramer (left) with Bill Goldstein\n\n\n			\n		\n			\n			BOOK TICKETS ON EVENTBRITE
URL:https://www.thevillagetrip.com/event/its-difficult-to-write-this-without-sounding-alarmist-larry-kramer-and-the-start-of-aids-activism/
LOCATION:NYC AIDS Memorial Park\, 76 Greenwich Avenue\, New York\, NY\, NY 10011\, United States
CATEGORIES:2021 Talk
ATTACH;FMTTYPE=image/jpeg:https://www.thevillagetrip.com/festival/wp-content/uploads/2021/08/New-York-City-AIDS-memorial.jpg
END:VEVENT
END:VCALENDAR